BEGIN:VCALENDAR
VERSION:2.0
PRODID:-//Tukios.com/
BEGIN:VEVENT
UID:5132f408-f8e8-43d8-82a3-e40acc170b3c@www.hmdfuneralhome.com
DTSTAMP:20260424T100948Z
DTSTART:20260502T190000Z
DTEND:20260502T200000Z
SUMMARY:Repass
DESCRIPTION:
URL:https://www.hmdfuneralhome.com/obituaries/willie-veasey
LOCATION:Martin Luther King Center 300 South 13th Avenue  Yuma AZ 85364
GEO:32.7212365;-114.6364274
END:VEVENT
END:VCALENDAR