BEGIN:VCALENDAR
VERSION:2.0
PRODID:-//Tukios.com/
BEGIN:VEVENT
UID:4c49d6b3-92ae-46d8-a1fa-6a2e70c4f37b@www.hmdfuneralhome.com
DTSTAMP:20260424T100948Z
DTSTART:20260502T160000Z
DTEND:20260502T183000Z
SUMMARY:Memorial Service
DESCRIPTION:
URL:https://www.hmdfuneralhome.com/obituaries/willie-veasey
LOCATION:Pentecostal Church of God 1234 Ripley St  Davenport IA 52803
GEO:41.532706;-90.5789125
END:VEVENT
END:VCALENDAR