BEGIN:VCALENDAR
VERSION:2.0
PRODID:-//Tukios.com/
BEGIN:VEVENT
UID:d4e192d3-8662-4ff5-b084-80a503a11fdd@www.hmdfuneralhome.com
DTSTAMP:20260421T192018Z
DTSTART:20260423T150000Z
DTEND:20260423T160000Z
SUMMARY:Funeral Service
DESCRIPTION:
URL:https://www.hmdfuneralhome.com/obituaries/mary-p-harris
LOCATION: 417 Main St  Davenport IA 52801
GEO:41.5240906;-90.5755596
END:VEVENT
END:VCALENDAR