BEGIN:VCALENDAR
VERSION:2.0
PRODID:-//Tukios.com/
BEGIN:VEVENT
UID:cc3529f6-e483-4f9f-a1fc-75bc4938e988@www.hmdfuneralhome.com
DTSTAMP:20260426T014449Z
DTSTART:20260429
SUMMARY:Burial
DESCRIPTION:
URL:https://www.hmdfuneralhome.com/obituaries/linda-nickles
LOCATION:Holy Family Cemetery Waverly Road  Davenport IA 52801
GEO:41.5280906;-90.6228828
END:VEVENT
END:VCALENDAR