BEGIN:VCALENDAR
VERSION:2.0
PRODID:-//Tukios.com/
BEGIN:VEVENT
UID:50312adc-120a-4a4d-98b7-7541feaa16de@www.hmdfuneralhome.com
DTSTAMP:20260426T015044Z
DTSTART:20260429T150000Z
DTEND:20260429T160000Z
SUMMARY:Mass of Christian Burial
DESCRIPTION:
URL:https://www.hmdfuneralhome.com/obituaries/linda-nickles
LOCATION:St. Anthony Catholic Church 417 North Main Street  Davenport IA 
	52801
GEO:41.5240696;-90.5751526
END:VEVENT
END:VCALENDAR