BEGIN:VCALENDAR
VERSION:2.0
PRODID:-//Tukios.com/
BEGIN:VEVENT
UID:155974ba-43b6-4e7f-95ae-54e3434d529e@www.hmdfuneralhome.com
DTSTAMP:20260426T014539Z
DTSTART:20260429T140000Z
DTEND:20260429T150000Z
SUMMARY:Visitation
DESCRIPTION:
URL:https://www.hmdfuneralhome.com/obituaries/linda-nickles
LOCATION:St. Anthony Catholic Church 417 North Main Street  Davenport IA 
	52801
GEO:41.5239995;-90.5752912
END:VEVENT
END:VCALENDAR