BEGIN:VCALENDAR
VERSION:2.0
PRODID:-//Tukios.com/
BEGIN:VEVENT
UID:da6aeff9-3068-4bb9-9f50-e927e62a110f@www.hmdfuneralhome.com
DTSTAMP:20260423T235920Z
DTSTART:20260501T170000Z
DTEND:20260501T180000Z
SUMMARY:Prayer Service
DESCRIPTION:
URL:https://www.hmdfuneralhome.com/obituaries/jon-delleman
LOCATION: 25500 Valley Dr  Pleasant Valley IA 52767
GEO:41.5799647;-90.4100653
END:VEVENT
END:VCALENDAR