BEGIN:VCALENDAR
VERSION:2.0
PRODID:-//Tukios.com/
BEGIN:VEVENT
UID:fd13fc6a-6918-42cc-8db6-c398c9d1689f@www.hmdfuneralhome.com
DTSTAMP:20260423T235920Z
DTSTART:20260501T160000Z
DTEND:20260501T200000Z
SUMMARY:Celebration of Life
DESCRIPTION:
URL:https://www.hmdfuneralhome.com/obituaries/jon-delleman
LOCATION:Davenport Country Club 25500 Valley Dr  Pleasant Valley IA 52767
GEO:41.5799647;-90.4100653
END:VEVENT
END:VCALENDAR