BEGIN:VCALENDAR
VERSION:2.0
PRODID:-//Tukios.com/
BEGIN:VEVENT
UID:b232644c-0b3e-4fdc-a111-52e16384ce05@www.hmdfuneralhome.com
DTSTAMP:20260421T011204Z
DTSTART:20260423T233000Z
DTEND:20260424T003000Z
SUMMARY:Rosary
DESCRIPTION:
URL:https://www.hmdfuneralhome.com/obituaries/jack-mcdermott
LOCATION: 614 Main Street  Davenport IA 52803
GEO:41.5261698;-90.5759558
END:VEVENT
END:VCALENDAR