BEGIN:VCALENDAR
VERSION:2.0
PRODID:-//Tukios.com/
BEGIN:VEVENT
UID:3e6d5191-3a74-4d86-b9a8-34f260adab45@www.hmdfuneralhome.com
DTSTAMP:20260421T010555Z
DTSTART:20260424T153000Z
DTEND:20260424T163000Z
SUMMARY:Mass
DESCRIPTION:
URL:https://www.hmdfuneralhome.com/obituaries/jack-mcdermott
LOCATION:Our Lady of Lourdes Catholic Church 1506 Brown St  Bettendorf IA 
	52722
GEO:41.5275423;-90.5108868
END:VEVENT
END:VCALENDAR