BEGIN:VCALENDAR
VERSION:2.0
PRODID:-//Tukios.com/
BEGIN:VEVENT
UID:3b6a1ca3-272b-496a-a803-b392b91895ed@www.hmdfuneralhome.com
DTSTAMP:20260421T010856Z
DTSTART:20260423T210000Z
DTEND:20260424T000000Z
SUMMARY:Visitation
DESCRIPTION:
URL:https://www.hmdfuneralhome.com/obituaries/jack-mcdermott
LOCATION: 614 Main Street  Davenport IA 52803
GEO:41.5261698;-90.5759558
END:VEVENT
END:VCALENDAR