BEGIN:VCALENDAR
VERSION:2.0
PRODID:-//Tukios.com/
BEGIN:VEVENT
UID:5abd878f-9a8a-4698-ab6d-522954370051@www.hmdfuneralhome.com
DTSTAMP:20260424T100949Z
DTSTART:20260710T050000Z
DTEND:20260710T060000Z
SUMMARY:Mass
DESCRIPTION:
URL:https://www.hmdfuneralhome.com/obituaries/donna-boldt-self
LOCATION:St. Anthony's Catholic Church 417 Main St  Davenport IA 52801
GEO:41.5240906;-90.5755596
END:VEVENT
END:VCALENDAR