BEGIN:VCALENDAR
VERSION:2.0
PRODID:-//Tukios.com/
BEGIN:VEVENT
UID:3d252510-1b3d-4099-be3b-3c6c0bc823c7@www.hmdfuneralhome.com
DTSTAMP:20260421T203537Z
DTSTART:20260423T160000Z
DTEND:20260423T170000Z
SUMMARY:Celebration of Life
DESCRIPTION:
URL:https://www.hmdfuneralhome.com/obituaries/diane-johnston-mccoy
LOCATION:Halligan-McCabe-DeVries Funeral Home 614 Main Street  Davenport 
	IA 52803
GEO:41.5261698;-90.5759558
END:VEVENT
END:VCALENDAR