BEGIN:VCALENDAR
VERSION:2.0
PRODID:-//Tukios.com/
BEGIN:VEVENT
UID:d3dfa6b3-7d44-448a-8b66-5490300c3ae0@www.hmdfuneralhome.com
DTSTAMP:20260421T203537Z
DTSTART:20260423T140000Z
DTEND:20260423T160000Z
SUMMARY:Visitation
DESCRIPTION:
URL:https://www.hmdfuneralhome.com/obituaries/diane-johnston-mccoy
LOCATION:Halligan-McCabe-DeVries Funeral Home 614 Main Street  Davenport 
	IA 52803
GEO:41.5261698;-90.5759558
END:VEVENT
END:VCALENDAR