BEGIN:VCALENDAR
VERSION:2.0
PRODID:-//Tukios.com/
BEGIN:VEVENT
UID:130ce606-aaa0-4b52-98fe-319e2a51ce0d@www.hmdfuneralhome.com
DTSTAMP:20260421T011642Z
DTSTART:20260424T170000Z
DTEND:20260424T180000Z
SUMMARY:Funeral Service
DESCRIPTION:
URL:https://www.hmdfuneralhome.com/obituaries/betty-warren-2026
LOCATION: 614 Main Street  Davenport IA 52803
GEO:41.5261698;-90.5759558
END:VEVENT
END:VCALENDAR