BEGIN:VCALENDAR
VERSION:2.0
PRODID:-//Tukios.com/
BEGIN:VEVENT
UID:166af749-5272-4b9e-a147-8de1a87cc2bc@www.hmdfuneralhome.com
DTSTAMP:20260421T011931Z
DTSTART:20260424T160000Z
DTEND:20260424T170000Z
SUMMARY:Visitation
DESCRIPTION:
URL:https://www.hmdfuneralhome.com/obituaries/betty-warren-2026
LOCATION: 614 Main Street  Davenport IA 52803
GEO:41.5261698;-90.5759558
END:VEVENT
END:VCALENDAR