BEGIN:VCALENDAR
VERSION:2.0
PRODID:-//Tukios.com/
BEGIN:VEVENT
UID:9ce8e579-31bf-4f21-89f8-af1412de9e45@www.hmdfuneralhome.com
DTSTAMP:20260420T213348Z
DTSTART:20260421T150000Z
DTEND:20260421T160000Z
SUMMARY:Mass of Christian Burial
DESCRIPTION:
URL:https://www.hmdfuneralhome.com/obituaries/be-ngo
LOCATION: 422 E 10th St  Davenport IA 52803
GEO:41.5303753;-90.5687465
END:VEVENT
END:VCALENDAR