BEGIN:VCALENDAR
VERSION:2.0
PRODID:-//Tukios.com/
BEGIN:VEVENT
UID:2b9f9a2d-1019-4f85-be90-d003563d7985@www.hmdfuneralhome.com
DTSTAMP:20260420T213729Z
DTSTART:20260420T220000Z
DTEND:20260420T230000Z
SUMMARY:Rosary
DESCRIPTION:
URL:https://www.hmdfuneralhome.com/obituaries/be-ngo
LOCATION: 614 Main Street  Davenport IA 52803
GEO:41.5261698;-90.5759558
END:VEVENT
END:VCALENDAR