BEGIN:VCALENDAR
VERSION:2.0
PRODID:-//Tukios.com/
BEGIN:VEVENT
UID:471d946b-b9ed-4f89-abda-d455c2d94ffb@www.hmdfuneralhome.com
DTSTAMP:20260420T213547Z
DTSTART:20260420T220000Z
DTEND:20260421T010000Z
SUMMARY:Visitation
DESCRIPTION:
URL:https://www.hmdfuneralhome.com/obituaries/be-ngo
LOCATION: 614 Main Street  Davenport IA 52803
GEO:41.5261698;-90.5759558
END:VEVENT
END:VCALENDAR