BEGIN:VCALENDAR
VERSION:2.0
PRODID:-//Tukios.com/
BEGIN:VEVENT
UID:253c921b-5fe9-4288-a010-9defd738f395@www.hmdfuneralhome.com
DTSTAMP:20260421T015921Z
DTSTART:20260422T163000Z
DTEND:20260422T173000Z
SUMMARY:Graveside Service
DESCRIPTION:
URL:https://www.hmdfuneralhome.com/obituaries/amy-behymer
LOCATION: 804 E 39th St  Davenport IA 52807
GEO:41.5599202;-90.5618874
END:VEVENT
END:VCALENDAR