BEGIN:VCALENDAR
VERSION:2.0
PRODID:-//Tukios.com/
BEGIN:VEVENT
UID:382c82c6-591c-4fa5-9e1a-66e15cf3e837@www.hmdfuneralhome.com
DTSTAMP:20260421T015243Z
DTSTART:20260422T150000Z
DTEND:20260422T160000Z
SUMMARY:Visitation
DESCRIPTION:
URL:https://www.hmdfuneralhome.com/obituaries/amy-behymer
LOCATION:Halligan-McCabe-DeVries Funeral Home 614 Main Street  Davenport 
	IA 52803
GEO:41.5261698;-90.5759558
END:VEVENT
END:VCALENDAR